BEGIN:VCALENDAR
VERSION:2.0
PRODID:-//Project Lifesaver - ECPv6.15.20//NONSGML v1.0//EN
CALSCALE:GREGORIAN
METHOD:PUBLISH
X-WR-CALNAME:Project Lifesaver
X-ORIGINAL-URL:https://projectlifesaver.org
X-WR-CALDESC:Events for Project Lifesaver
REFRESH-INTERVAL;VALUE=DURATION:PT1H
X-Robots-Tag:noindex
X-PUBLISHED-TTL:PT1H
BEGIN:VTIMEZONE
TZID:America/Halifax
BEGIN:DAYLIGHT
TZOFFSETFROM:-0400
TZOFFSETTO:-0300
TZNAME:ADT
DTSTART:20170312T060000
END:DAYLIGHT
BEGIN:STANDARD
TZOFFSETFROM:-0300
TZOFFSETTO:-0400
TZNAME:AST
DTSTART:20171105T050000
END:STANDARD
BEGIN:DAYLIGHT
TZOFFSETFROM:-0400
TZOFFSETTO:-0300
TZNAME:ADT
DTSTART:20180311T060000
END:DAYLIGHT
BEGIN:STANDARD
TZOFFSETFROM:-0300
TZOFFSETTO:-0400
TZNAME:AST
DTSTART:20181104T050000
END:STANDARD
BEGIN:DAYLIGHT
TZOFFSETFROM:-0400
TZOFFSETTO:-0300
TZNAME:ADT
DTSTART:20190310T060000
END:DAYLIGHT
BEGIN:STANDARD
TZOFFSETFROM:-0300
TZOFFSETTO:-0400
TZNAME:AST
DTSTART:20191103T050000
END:STANDARD
BEGIN:DAYLIGHT
TZOFFSETFROM:-0400
TZOFFSETTO:-0300
TZNAME:ADT
DTSTART:20200308T060000
END:DAYLIGHT
BEGIN:STANDARD
TZOFFSETFROM:-0300
TZOFFSETTO:-0400
TZNAME:AST
DTSTART:20201101T050000
END:STANDARD
END:VTIMEZONE
BEGIN:VTIMEZONE
TZID:UTC
BEGIN:STANDARD
TZOFFSETFROM:+0000
TZOFFSETTO:+0000
TZNAME:UTC
DTSTART:20160101T000000
END:STANDARD
END:VTIMEZONE
BEGIN:VEVENT
DTSTART;TZID=America/Halifax:20191022T090000
DTEND;TZID=America/Halifax:20191022T133000
DTSTAMP:20260423T002344
CREATED:20190401T152127Z
LAST-MODIFIED:20190401T152127Z
UID:33869-1571734800-1571751000@projectlifesaver.org
SUMMARY:Piscataway\, NJ - AFA Educating America Tour
DESCRIPTION:
URL:https://projectlifesaver.org/event/piscataway-nj-afa-educating-america-tour/
LOCATION:Rutgers University\, 604 Bartholomew Rd.\, Piscataway Township\, NJ\, 08854\, United States
CATEGORIES:Alzheimer's Foundation of America Events
END:VEVENT
BEGIN:VEVENT
DTSTART;TZID=America/Halifax:20191002T090000
DTEND;TZID=America/Halifax:20191002T133000
DTSTAMP:20260423T002344
CREATED:20190401T151730Z
LAST-MODIFIED:20190401T151730Z
UID:33866-1570006800-1570023000@projectlifesaver.org
SUMMARY:Oklahoma City\, OK - AFA Educating America Tour
DESCRIPTION:
URL:https://projectlifesaver.org/event/oklahoma-city-ok-afa-educating-america-tour/
LOCATION:Renaissance Waterford\, 6300 Waterford Blvd\, Oklahoma City\, OK\, 73118\, United States
CATEGORIES:Alzheimer's Foundation of America Events
END:VEVENT
BEGIN:VEVENT
DTSTART;TZID=America/Halifax:20190919T090000
DTEND;TZID=America/Halifax:20190919T133000
DTSTAMP:20260423T002344
CREATED:20190401T151321Z
LAST-MODIFIED:20190401T155138Z
UID:33863-1568883600-1568899800@projectlifesaver.org
SUMMARY:St. Louis\, MO - AFA Educating America Tour
DESCRIPTION:
URL:https://projectlifesaver.org/event/st-louis-mo-afa-educating-america-tour/
LOCATION:St. Louis University\, 20 N Grand Blvd.\, St. Louis\, MO\, 63103\, United States
CATEGORIES:Alzheimer's Foundation of America Events
END:VEVENT
BEGIN:VEVENT
DTSTART;TZID=America/Halifax:20190806T090000
DTEND;TZID=America/Halifax:20190806T133000
DTSTAMP:20260423T002344
CREATED:20190401T150822Z
LAST-MODIFIED:20190401T150822Z
UID:33860-1565082000-1565098200@projectlifesaver.org
SUMMARY:Portland\, ME - AFA Educating America Tour
DESCRIPTION:
URL:https://projectlifesaver.org/event/portland-me-afa-educating-america-tour/
LOCATION:Portland Regency Hotel\, 20 Milk Street\, Portland\, ME\, 04101\, United States
CATEGORIES:Alzheimer's Foundation of America Events
END:VEVENT
BEGIN:VEVENT
DTSTART;TZID=America/Halifax:20190625T090000
DTEND;TZID=America/Halifax:20190625T133000
DTSTAMP:20260423T002344
CREATED:20190401T150359Z
LAST-MODIFIED:20190401T150359Z
UID:33858-1561453200-1561469400@projectlifesaver.org
SUMMARY:Minneapolis\, MN - AFA Educating America Tour
DESCRIPTION:
URL:https://projectlifesaver.org/event/minneapolis-mn-afa-educating-america-tour-2/
LOCATION:Loews Minneapolis Hotel\, 601 N 1st Ave\, Minneapolis\, MN\, 55403\, United States
CATEGORIES:Alzheimer's Foundation of America Events
END:VEVENT
BEGIN:VEVENT
DTSTART;TZID=America/Halifax:20190613T090000
DTEND;TZID=America/Halifax:20190613T133000
DTSTAMP:20260423T002344
CREATED:20190401T145740Z
LAST-MODIFIED:20190401T145740Z
UID:33855-1560416400-1560432600@projectlifesaver.org
SUMMARY:Seattle\, WA - AFA Educating America Tour
DESCRIPTION:
URL:https://projectlifesaver.org/event/seattle-wa-afa-educating-america-tour/
LOCATION:Columbia Tower Club\, 701 5th Avenue\, Seattle\, WA\, 98104\, United States
CATEGORIES:Alzheimer's Foundation of America Events
END:VEVENT
BEGIN:VEVENT
DTSTART;TZID=America/Halifax:20190611T090000
DTEND;TZID=America/Halifax:20190611T133000
DTSTAMP:20260423T002344
CREATED:20190401T144544Z
LAST-MODIFIED:20190401T145643Z
UID:33849-1560243600-1560259800@projectlifesaver.org
SUMMARY:Portland\, OR - AFA Educating America Tour
DESCRIPTION:
URL:https://projectlifesaver.org/event/portland-or-afa-educating-america-tour/
LOCATION:The Oregon Museum Auditorium\, 1945 SE Water Avenue\, Portland\, OR\, 97214\, United States
CATEGORIES:Alzheimer's Foundation of America Events
END:VEVENT
BEGIN:VEVENT
DTSTART;TZID=America/Halifax:20190510T090000
DTEND;TZID=America/Halifax:20190510T133000
DTSTAMP:20260423T002344
CREATED:20190401T144038Z
LAST-MODIFIED:20190401T144644Z
UID:33845-1557478800-1557495000@projectlifesaver.org
SUMMARY:New York\, NY - AFA Educating America Tour
DESCRIPTION:
URL:https://projectlifesaver.org/event/new-york-ny-afa-educating-america-tour-2/
LOCATION:Edison Ballroom\, 240 West 47th Street\, New York\, NY\, 10036\, United States
CATEGORIES:Alzheimer's Foundation of America Events
END:VEVENT
BEGIN:VEVENT
DTSTART;TZID=America/Halifax:20190423T090000
DTEND;TZID=America/Halifax:20190423T133000
DTSTAMP:20260423T002344
CREATED:20190401T142125Z
LAST-MODIFIED:20190401T144616Z
UID:33840-1556010000-1556026200@projectlifesaver.org
SUMMARY:Nashville\, TN - AFA Educating America Tour
DESCRIPTION:
URL:https://projectlifesaver.org/event/nashville-tn-afa-educating-america-tour-2/
LOCATION:Country Music Hall of Fame – Ford Theatre\, 222 5th Ave S\, Nashville\, TN\, 37203\, United States
CATEGORIES:Alzheimer's Foundation of America Events
END:VEVENT
BEGIN:VEVENT
DTSTART;VALUE=DATE:20181114
DTEND;VALUE=DATE:20181115
DTSTAMP:20260423T002344
CREATED:20180213T181144Z
LAST-MODIFIED:20180213T181144Z
UID:32769-1542153600-1542239999@projectlifesaver.org
SUMMARY:Austin\, TX - AFA Educating America Tour
DESCRIPTION:
URL:https://projectlifesaver.org/event/austin-tx-afa-educating-america-tour/
LOCATION:The Driskill\, 604 Brazos St\, Austin\, TX\, 78701\, United States
CATEGORIES:Alzheimer's Foundation of America Events
END:VEVENT
BEGIN:VEVENT
DTSTART;VALUE=DATE:20181108
DTEND;VALUE=DATE:20181109
DTSTAMP:20260423T002344
CREATED:20180213T180919Z
LAST-MODIFIED:20180213T180919Z
UID:32767-1541635200-1541721599@projectlifesaver.org
SUMMARY:Atlanta\, GA - AFA Educating America Tour
DESCRIPTION:
URL:https://projectlifesaver.org/event/atlanta-ga-afa-educating-america-tour/
LOCATION:NJ
CATEGORIES:Alzheimer's Foundation of America Events
END:VEVENT
BEGIN:VEVENT
DTSTART;VALUE=DATE:20181024
DTEND;VALUE=DATE:20181025
DTSTAMP:20260423T002344
CREATED:20180213T180521Z
LAST-MODIFIED:20180213T180521Z
UID:32764-1540339200-1540425599@projectlifesaver.org
SUMMARY:New Orleans\, LA - AFA Educating America Tour
DESCRIPTION:
URL:https://projectlifesaver.org/event/new-orleans-la-afa-educating-america-tour/
LOCATION:Loews New Orleans Hotel\, 300 Poydras St\, New Orleans\, LA\, 70130\, United States
CATEGORIES:Alzheimer's Foundation of America Events
END:VEVENT
BEGIN:VEVENT
DTSTART;VALUE=DATE:20181019
DTEND;VALUE=DATE:20181020
DTSTAMP:20260423T002344
CREATED:20180213T180256Z
LAST-MODIFIED:20180213T180256Z
UID:32761-1539907200-1539993599@projectlifesaver.org
SUMMARY:Minneapolis\, MN - AFA Educating America Tour
DESCRIPTION:
URL:https://projectlifesaver.org/event/minneapolis-mn-afa-educating-america-tour/
LOCATION:Loews Minneapolis Hotel\, 601 N 1st Ave\, Minneapolis\, MN\, 55403\, United States
CATEGORIES:Alzheimer's Foundation of America Events
END:VEVENT
BEGIN:VEVENT
DTSTART;VALUE=DATE:20181012
DTEND;VALUE=DATE:20181013
DTSTAMP:20260423T002344
CREATED:20180213T180047Z
LAST-MODIFIED:20180213T180047Z
UID:32759-1539302400-1539388799@projectlifesaver.org
SUMMARY:Little Rock\, AR - AFA Educating America Tour
DESCRIPTION:
URL:https://projectlifesaver.org/event/little-rock-ar-afa-educating-america-tour/
LOCATION:NJ
CATEGORIES:Alzheimer's Foundation of America Events
END:VEVENT
BEGIN:VEVENT
DTSTART;VALUE=DATE:20180927
DTEND;VALUE=DATE:20180928
DTSTAMP:20260423T002344
CREATED:20180213T175527Z
LAST-MODIFIED:20180608T134636Z
UID:32757-1538006400-1538092799@projectlifesaver.org
SUMMARY:Fairfax\, VA - AFA Educating America Tour (Project Lifesaver Only)
DESCRIPTION:
URL:https://projectlifesaver.org/event/fairfax-va-afa-educating-america-tour-project-lifesaver-only/
LOCATION:NJ
CATEGORIES:Alzheimer's Foundation of America Events,HQ Events
END:VEVENT
BEGIN:VEVENT
DTSTART;VALUE=DATE:20180921
DTEND;VALUE=DATE:20180922
DTSTAMP:20260423T002344
CREATED:20180213T175213Z
LAST-MODIFIED:20180213T175213Z
UID:32755-1537488000-1537574399@projectlifesaver.org
SUMMARY:Cleveland\, OH - AFA Educating America Tour
DESCRIPTION:
URL:https://projectlifesaver.org/event/cleveland-oh-afa-educating-america-tour/
LOCATION:NJ
CATEGORIES:Alzheimer's Foundation of America Events
END:VEVENT
BEGIN:VEVENT
DTSTART;VALUE=DATE:20180614
DTEND;VALUE=DATE:20180615
DTSTAMP:20260423T002344
CREATED:20180213T175048Z
LAST-MODIFIED:20180213T175048Z
UID:32752-1528934400-1529020799@projectlifesaver.org
SUMMARY:Milwaukee\, WI - AFA Educating America Tour
DESCRIPTION:
URL:https://projectlifesaver.org/event/milwaukee-wi-afa-educating-america-tour/
LOCATION:Milwaukee Athletic Club – Grand Ballroom\, 758 N Broadway\, Milwaukee\, WI\, 53202\, United States
CATEGORIES:Alzheimer's Foundation of America Events
END:VEVENT
BEGIN:VEVENT
DTSTART;VALUE=DATE:20180518
DTEND;VALUE=DATE:20180519
DTSTAMP:20260423T002344
CREATED:20180213T174845Z
LAST-MODIFIED:20180213T174845Z
UID:32749-1526601600-1526687999@projectlifesaver.org
SUMMARY:New York\, NY - AFA Educating America Tour
DESCRIPTION:
URL:https://projectlifesaver.org/event/new-york-ny-afa-educating-america-tour/
LOCATION:Crowne Plaza Times Square Hotel\, 1605 Broadway\, New York\, NY\, 10019\, United States
CATEGORIES:Alzheimer's Foundation of America Events
END:VEVENT
BEGIN:VEVENT
DTSTART;VALUE=DATE:20180501
DTEND;VALUE=DATE:20180502
DTSTAMP:20260423T002344
CREATED:20180213T174618Z
LAST-MODIFIED:20180213T174618Z
UID:32746-1525132800-1525219199@projectlifesaver.org
SUMMARY:Birmingham\, AL - AFA Educating America Tour
DESCRIPTION:
URL:https://projectlifesaver.org/event/birmingham-al-afa-educating-america-tour/
LOCATION:University of Alabama – Alys Stephens Center\, 1200 10th Ave S\, Birmingham\, AL\, 35294\, United States
CATEGORIES:Alzheimer's Foundation of America Events
END:VEVENT
BEGIN:VEVENT
DTSTART;VALUE=DATE:20180423
DTEND;VALUE=DATE:20180424
DTSTAMP:20260423T002344
CREATED:20180213T174405Z
LAST-MODIFIED:20180213T174405Z
UID:32743-1524441600-1524527999@projectlifesaver.org
SUMMARY:Charleston\, SC - AFA Educating America Tour
DESCRIPTION:
URL:https://projectlifesaver.org/event/charleston-sc-afa-educating-america-tour/
LOCATION:The Mills House – Wyndham Grand Hotel\, 115 Meeting Street\, Charleston\, SC\, 29401\, United States
CATEGORIES:Alzheimer's Foundation of America Events
END:VEVENT
BEGIN:VEVENT
DTSTART;VALUE=DATE:20180413
DTEND;VALUE=DATE:20180414
DTSTAMP:20260423T002344
CREATED:20180213T173531Z
LAST-MODIFIED:20180213T173531Z
UID:32740-1523577600-1523663999@projectlifesaver.org
SUMMARY:Nashville\, TN - AFA Educating America Tour
DESCRIPTION:
URL:https://projectlifesaver.org/event/nashville-tn-afa-educating-america-tour/
LOCATION:Country Music Hall of Fame – Ford Theatre\, 222 5th Ave S\, Nashville\, TN\, 37203\, United States
CATEGORIES:Alzheimer's Foundation of America Events
END:VEVENT
BEGIN:VEVENT
DTSTART;VALUE=DATE:20180319
DTEND;VALUE=DATE:20180320
DTSTAMP:20260423T002344
CREATED:20180213T173300Z
LAST-MODIFIED:20180213T173300Z
UID:32738-1521417600-1521503999@projectlifesaver.org
SUMMARY:Boston\, MA - AFA Educating America Tour
DESCRIPTION:
URL:https://projectlifesaver.org/event/boston-ma-afa-educating-america-tour-2/
LOCATION:Hotel Langham\, 250 Franklin Street\, Boston\, MA\, 02110\, United States
CATEGORIES:Alzheimer's Foundation of America Events
END:VEVENT
BEGIN:VEVENT
DTSTART;VALUE=DATE:20180309
DTEND;VALUE=DATE:20180310
DTSTAMP:20260423T002344
CREATED:20180213T172924Z
LAST-MODIFIED:20180213T172924Z
UID:32734-1520553600-1520639999@projectlifesaver.org
SUMMARY:Tempe\, AZ - AFA Educating America Tour
DESCRIPTION:
URL:https://projectlifesaver.org/event/tempe-az-afa-educating-america-tour/
LOCATION:Marriott at the Buttes\, 2000 W Westcourt Way\, Tempe\, AZ\, 85282\, United States
CATEGORIES:Alzheimer's Foundation of America Events
END:VEVENT
BEGIN:VEVENT
DTSTART;VALUE=DATE:20180220
DTEND;VALUE=DATE:20180221
DTSTAMP:20260423T002344
CREATED:20180213T171845Z
LAST-MODIFIED:20180213T173050Z
UID:32725-1519084800-1519171199@projectlifesaver.org
SUMMARY:San Diego\, CA - AFA Educating America Tour
DESCRIPTION:
URL:https://projectlifesaver.org/event/san-diego-ca-afa-educating-america-tour/
LOCATION:Sheraton San Diego Hotel & Marina\, 1380 Harbor Island Dr\, San Diego\, CA\, 92101\, United States
CATEGORIES:Alzheimer's Foundation of America Events
END:VEVENT
BEGIN:VEVENT
DTSTART;TZID=UTC:20171026T083000
DTEND;TZID=UTC:20171026T143000
DTSTAMP:20260423T002344
CREATED:20170526T193822Z
LAST-MODIFIED:20170605T230119Z
UID:12026-1509006600-1509028200@projectlifesaver.org
SUMMARY:Boston\, MA - AFA Educating America Tour
DESCRIPTION:In celebration of its 15th anniversary\, AFA is hosting the \n“AFA National Educating America Tour” \nAFA’s Concepts in Care Educational Conferences will provide individuals throughout the nation the opportunity to hear experts on topics to include: access to healthcare\, transitioning from home to residential care setting\, safeguarding your space\, long-term care\, perceptions of aging\, and clinical trials and research. \nThe educational conferences are free and will also provide memory screenings and a display of memory quilts.
URL:https://projectlifesaver.org/event/boston-ma-afa-educating-america-tour/
LOCATION:Hotel Langham\, 250 Franklin Street\, Boston\, MA\, 02110\, United States
CATEGORIES:Alzheimer's Foundation of America Events
ATTACH;FMTTYPE=image/jpeg:https://projectlifesaver.org/wp-content/uploads/2017/05/Logo_FINAL-300x200.jpg
END:VEVENT
BEGIN:VEVENT
DTSTART;TZID=UTC:20171019T083000
DTEND;TZID=UTC:20171019T143000
DTSTAMP:20260423T002344
CREATED:20170526T193613Z
LAST-MODIFIED:20170605T230127Z
UID:12023-1508401800-1508423400@projectlifesaver.org
SUMMARY:Chicago\, IL - AFA Educating America Tour
DESCRIPTION:In celebration of its 15th anniversary\, AFA is hosting the \n“AFA National Educating America Tour” \nAFA’s Concepts in Care Educational Conferences will provide individuals throughout the nation the opportunity to hear experts on topics to include: access to healthcare\, transitioning from home to residential care setting\, safeguarding your space\, long-term care\, perceptions of aging\, and clinical trials and research. \nThe educational conferences are free and will also provide memory screenings and a display of memory quilts.
URL:https://projectlifesaver.org/event/chicago-il-afa-educating-america-tour/
LOCATION:Intercontinental Hotel at Magnificent Mile\, 505 North Michigan Ave\, Chicago\, IL\, 60611\, United States
CATEGORIES:Alzheimer's Foundation of America Events
ATTACH;FMTTYPE=image/jpeg:https://projectlifesaver.org/wp-content/uploads/2017/05/Logo_FINAL-300x200.jpg
END:VEVENT
BEGIN:VEVENT
DTSTART;TZID=UTC:20171010T083000
DTEND;TZID=UTC:20171010T143000
DTSTAMP:20260423T002344
CREATED:20170526T193146Z
LAST-MODIFIED:20170605T230136Z
UID:12020-1507624200-1507645800@projectlifesaver.org
SUMMARY:Indianapolis\, IN - AFA Educating America Tour
DESCRIPTION:In celebration of its 15th anniversary\, AFA is hosting the \n“AFA National Educating America Tour” \nAFA’s Concepts in Care Educational Conferences will provide individuals throughout the nation the opportunity to hear experts on topics to include: access to healthcare\, transitioning from home to residential care setting\, safeguarding your space\, long-term care\, perceptions of aging\, and clinical trials and research. \nThe educational conferences are free and will also provide memory screenings and a display of memory quilts.
URL:https://projectlifesaver.org/event/indianapolis-in-afa-educating-america-tour/
LOCATION:Indianapolis Museum of Art’s Deer Zink Pavilion\, 4000 Michigan Road\, Indianapolis\, IN\, 46208\, United States
CATEGORIES:Alzheimer's Foundation of America Events
ATTACH;FMTTYPE=image/jpeg:https://projectlifesaver.org/wp-content/uploads/2017/05/Logo_FINAL-300x200.jpg
END:VEVENT
BEGIN:VEVENT
DTSTART;TZID=UTC:20170926T083000
DTEND;TZID=UTC:20170926T143000
DTSTAMP:20260423T002344
CREATED:20170526T192303Z
LAST-MODIFIED:20170605T230145Z
UID:12017-1506414600-1506436200@projectlifesaver.org
SUMMARY:Long Island\, NY - AFA Educating America Tour
DESCRIPTION:In celebration of its 15th anniversary\, AFA is hosting the \n“AFA National Educating America Tour” \nAFA’s Concepts in Care Educational Conferences will provide individuals throughout the nation the opportunity to hear experts on topics to include: access to healthcare\, transitioning from home to residential care setting\, safeguarding your space\, long-term care\, perceptions of aging\, and clinical trials and research. \nThe educational conferences are free and will also provide memory screenings and a display of memory quilts.
URL:https://projectlifesaver.org/event/long-island-ny-afa-educating-america-tour/
LOCATION:Melville Marriott Long Island\, 1350 Walt Whitman Road\, Melville\, NY\, 11747\, United States
CATEGORIES:Alzheimer's Foundation of America Events
ATTACH;FMTTYPE=image/jpeg:https://projectlifesaver.org/wp-content/uploads/2017/05/Logo_FINAL-300x200.jpg
END:VEVENT
BEGIN:VEVENT
DTSTART;TZID=UTC:20170920T083000
DTEND;TZID=UTC:20170920T143000
DTSTAMP:20260423T002344
CREATED:20170526T191309Z
LAST-MODIFIED:20170605T230153Z
UID:12010-1505896200-1505917800@projectlifesaver.org
SUMMARY:Durham\, NC - AFA Educating America Tour
DESCRIPTION:In celebration of its 15th anniversary\, AFA is hosting the \n“AFA National Educating America Tour” \nAFA’s Concepts in Care Educational Conferences will provide individuals throughout the nation the opportunity to hear experts on topics to include: access to healthcare\, transitioning from home to residential care setting\, safeguarding your space\, long-term care\, perceptions of aging\, and clinical trials and research. \nThe educational conferences are free and will also provide memory screenings and a display of memory quilts.
URL:https://projectlifesaver.org/event/durham-nc-afa-educating-america-tour/
LOCATION:Sheraton Imperial Hotel\, 4700 Emperor Blvd\, Durham\, NC\, 27703\, United States
CATEGORIES:Alzheimer's Foundation of America Events
ATTACH;FMTTYPE=image/jpeg:https://projectlifesaver.org/wp-content/uploads/2017/05/Logo_FINAL-300x200.jpg
END:VEVENT
BEGIN:VEVENT
DTSTART;TZID=UTC:20170914T083000
DTEND;TZID=UTC:20170914T143000
DTSTAMP:20260423T002344
CREATED:20170526T190914Z
LAST-MODIFIED:20170605T230200Z
UID:12006-1505377800-1505399400@projectlifesaver.org
SUMMARY:Washington DC - AFA Educating America Tour
DESCRIPTION:In celebration of its 15th anniversary\, AFA is hosting the \n“AFA National Educating America Tour” \nAFA’s Concepts in Care Educational Conferences will provide individuals throughout the nation the opportunity to hear experts on topics to include: access to healthcare\, transitioning from home to residential care setting\, safeguarding your space\, long-term care\, perceptions of aging\, and clinical trials and research. \nThe educational conferences are free and will also provide memory screenings and a display of memory quilts.
URL:https://projectlifesaver.org/event/washington-dc-afa-educating-america-tour/
LOCATION:The Whittemore House\, 1526 New Hampshire Ave\, NW Washington\, DC\, 20036\, United States
CATEGORIES:Alzheimer's Foundation of America Events
ATTACH;FMTTYPE=image/jpeg:https://projectlifesaver.org/wp-content/uploads/2017/05/Logo_FINAL-300x200.jpg
END:VEVENT
END:VCALENDAR