BEGIN:VCALENDAR
VERSION:2.0
PRODID:-//Project Lifesaver - ECPv6.15.20//NONSGML v1.0//EN
CALSCALE:GREGORIAN
METHOD:PUBLISH
X-ORIGINAL-URL:https://projectlifesaver.org
X-WR-CALDESC:Events for Project Lifesaver
REFRESH-INTERVAL;VALUE=DURATION:PT1H
X-Robots-Tag:noindex
X-PUBLISHED-TTL:PT1H
BEGIN:VTIMEZONE
TZID:UTC
BEGIN:STANDARD
TZOFFSETFROM:+0000
TZOFFSETTO:+0000
TZNAME:UTC
DTSTART:20160101T000000
END:STANDARD
END:VTIMEZONE
BEGIN:VEVENT
DTSTART;TZID=UTC:20170607T083000
DTEND;TZID=UTC:20170607T143000
DTSTAMP:20260423T054259
CREATED:20170526T185533Z
LAST-MODIFIED:20170605T230206Z
UID:11996-1496824200-1496845800@projectlifesaver.org
SUMMARY:Franklin\, TN - AFA Educating America Tour
DESCRIPTION:In celebration of its 15th anniversary\, AFA is hosting the \n“AFA National Educating America Tour” \nAFA’s Concepts in Care Educational Conferences will provide individuals throughout the nation the opportunity to hear experts on topics to include: access to healthcare\, transitioning from home to residential care setting\, safeguarding your space\, long-term care\, perceptions of aging\, and clinical trials and research. \nThe educational conferences are free and will also provide memory screenings and a display of memory quilts.
URL:https://projectlifesaver.org/event/franklin-tn-afa-educating-america-tour/
LOCATION:The Franklin Theatre\, 419 Main St\, Franklin\, TN\, 37064\, United States
CATEGORIES:Alzheimer's Foundation of America Events
ATTACH;FMTTYPE=image/jpeg:https://projectlifesaver.org/wp-content/uploads/2017/05/Logo_FINAL-300x200.jpg
END:VEVENT
END:VCALENDAR