BEGIN:VCALENDAR
VERSION:2.0
PRODID:-//Project Lifesaver - ECPv6.15.20//NONSGML v1.0//EN
CALSCALE:GREGORIAN
METHOD:PUBLISH
X-ORIGINAL-URL:https://projectlifesaver.org
X-WR-CALDESC:Events for Project Lifesaver
REFRESH-INTERVAL;VALUE=DURATION:PT1H
X-Robots-Tag:noindex
X-PUBLISHED-TTL:PT1H
BEGIN:VTIMEZONE
TZID:UTC
BEGIN:STANDARD
TZOFFSETFROM:+0000
TZOFFSETTO:+0000
TZNAME:UTC
DTSTART:20160101T000000
END:STANDARD
END:VTIMEZONE
BEGIN:VEVENT
DTSTART;TZID=UTC:20170530T090000
DTEND;TZID=UTC:20170530T140000
DTSTAMP:20260424T013758
CREATED:20170530T180316Z
LAST-MODIFIED:20170530T180316Z
UID:12100-1496134800-1496152800@projectlifesaver.org
SUMMARY:Westfield\, MA - Autism Speaks Walk
DESCRIPTION:Autism Speaks Walk is the world’s largest autism fundraising event dedicated to improving the lives of people with autism. Powered by the love of parents\, grandparents\, siblings\, friends\, relatives\, and supporters\, the funds raised help ensure people of all abilities have access to the tools needed to lead their best lives. The commitment of individuals like you plays a critical role in raising the funding needed to fuel innovative research and lifelong supports and services. Working together\, there is no limit to what we can achieve. Please register and fundraise for an Autism Speaks Walk near you. \nOur strength as a community is powered by love and built on the commitment of individuals like you. Start a team\, join a team or come on your own. Walk and fundraise together to enhance the lives of people living with autism.
URL:https://projectlifesaver.org/event/westfield-ma-autism-speaks-walk/
LOCATION:Stanley Park\, 400 Western Ave\, Westfield\, MA\, 01085\, United States
CATEGORIES:Autism Speaks Events
ATTACH;FMTTYPE=image/png:https://projectlifesaver.org/wp-content/uploads/2017/05/logo-large.png
END:VEVENT
BEGIN:VEVENT
DTSTART;TZID=UTC:20170530T080000
DTEND;TZID=UTC:20170530T170000
DTSTAMP:20260424T013758
CREATED:20170530T185722Z
LAST-MODIFIED:20170530T185722Z
UID:12114-1496131200-1496163600@projectlifesaver.org
SUMMARY:Princeton\, NJ - Autism Speaks Walk
DESCRIPTION:Autism Speaks Walk is the world’s largest autism fundraising event dedicated to improving the lives of people with autism. Powered by the love of parents\, grandparents\, siblings\, friends\, relatives\, and supporters\, the funds raised help ensure people of all abilities have access to the tools needed to lead their best lives. The commitment of individuals like you plays a critical role in raising the funding needed to fuel innovative research and lifelong supports and services. Working together\, there is no limit to what we can achieve. Please register and fundraise for an Autism Speaks Walk near you. \nOur strength as a community is powered by love and built on the commitment of individuals like you. Start a team\, join a team or come on your own. Walk and fundraise together to enhance the lives of people living with autism.
URL:https://projectlifesaver.org/event/princeton-nj-autism-speaks-walk/
LOCATION:ETS\, Princeton Campus\, 660 Rosedale Rd\, Princeton\, NJ\, 08540\, United States
CATEGORIES:Autism Speaks Events
ATTACH;FMTTYPE=image/png:https://projectlifesaver.org/wp-content/uploads/2017/05/logo-large.png
END:VEVENT
END:VCALENDAR