BEGIN:VCALENDAR
VERSION:2.0
PRODID:-//Project Lifesaver - ECPv6.15.20//NONSGML v1.0//EN
CALSCALE:GREGORIAN
METHOD:PUBLISH
X-WR-CALNAME:Project Lifesaver
X-ORIGINAL-URL:https://projectlifesaver.org
X-WR-CALDESC:Events for Project Lifesaver
REFRESH-INTERVAL;VALUE=DURATION:PT1H
X-Robots-Tag:noindex
X-PUBLISHED-TTL:PT1H
BEGIN:VTIMEZONE
TZID:UTC
BEGIN:STANDARD
TZOFFSETFROM:+0000
TZOFFSETTO:+0000
TZNAME:UTC
DTSTART:20160101T000000
END:STANDARD
END:VTIMEZONE
BEGIN:VEVENT
DTSTART;VALUE=DATE:20170719
DTEND;VALUE=DATE:20170720
DTSTAMP:20260424T062325
CREATED:20170707T221147Z
LAST-MODIFIED:20170707T221147Z
UID:23789-1500422400-1500508799@projectlifesaver.org
SUMMARY:Project Lifesaver Demonstration
DESCRIPTION:Guelph Police to demonstrate Project Lifesaver in Barrie\n \nBarrie will witness the technology of Project Lifesaver later this month when Guelph Police stage a demonstration in our city.\n\n\nThe mock missing person scenario July 19 will showcase how the tracking system works to find vulnerable\, wandering people. \nGuelph has had Project Lifesaver since 2011 and the city’s Victim Services is helping to bring it to Barrie. \n“We’ll have somebody go into a farmers field and take the bracelet with them\,” said Barrie Chamber of Commerce President Kris Hughston after a breakfast speech Thursday by Chief Kimberley Greenwood at the Barrie Country Club. \n“Guelph Police will be here and they’ll do the tracking to find the person just to show how it works.” \nProject Lifesaver is a system that combines radio technology with a coordinated police response to locate wandering people. \nPotential wanderers wear a bracelet – a one-ounce\, battery-operated transmitter –  that emits an FM radio signal every second\, 24 hours a day. \nSatellite receivers then pick up the sound and lead searchers to the missing person. \nFourteen communities are using the devices to track people prone to wander including those with dementia\, Alzheimer’s or autism. \nChief Greenwood says the voluntary program is another tool for police. \n\n“We offer bracelets to families that they can place on those that do tend to wander and we’re able to locate them without the heartbreak and sometimes the tragic results of people wandering and not returning home\,” Greenwood said. \nHeartbreak like the February disappearance of Barrie senior Mandy Thompson who wandered away on a frigid morning and has not been found despite several\, large-scale searches by Barrie Police and the OPP. \n“We do not want another Mandy Thompson\,” said Hughston\, who says the issue is close to home for her. \nA $25\,000 fundraising campaign is underway to purchase four receivers and 20 bracelets. \nPartners on the initiative include the City of Barrie\, Barrie Police Service\, Georgian Bay Volunteer Search and Rescue\, County of Simcoe Paramedic Services\, Alzheimer Society of Simcoe County\, Barrie Chamber of Commerce and Simcoe.com. \nSeniors Helpers\, a company that provides seniors in-home care is the newest group to join the push. \n“It’s overdue\,”\, said co-owner Doug Weber.  “I don’t think we have a good handle on the numbers (of vulnerable seniors.)  I think they’re significantly higher than anybody thinks.” \nGuelph brings success stories to Barrie from as recent as last week when a woman went missing twice and was located under 45 minutes both times. \nAnd there’s many more. \n“Guelph had someone go missing for eight hours and ended up with hypothermia\,” Hughston said.  “The next time that individual went missing with a bracelet they found him in 18 minutes”. \nOfficials in Barrie are seeking provincial funding and would like to see Project Lifesaver across Ontario. \nHughston says the system will reduce policing costs and more importantly protect Barrie’s vulnerable citizens and help their families. \n“It’s deeper than just finding the person. It’s the stress of not knowing where your loved one is. With Mandy Thompson’s family it’s the stress of not being able to put closure to this whole horror story.” \nCash has been trickling in and Hughston hopes the demonstration in two weeks will boost the fundraising. \nDonations can be dropped off at the Barrie Chamber of Commerce office: 121 Commerce Park Drive\, Unit A\, Barrie. \nCheques should be made out to Georgian Bay Volunteer Search and Rescue for charitable tax receipt.
URL:https://projectlifesaver.org/event/project-lifesaver-demonstration/
LOCATION:MA
CATEGORIES:Member Agency Events
END:VEVENT
BEGIN:VEVENT
DTSTART;VALUE=DATE:20170708
DTEND;VALUE=DATE:20170713
DTSTAMP:20260424T062325
CREATED:20170707T223115Z
LAST-MODIFIED:20170707T223715Z
UID:23799-1499472000-1499903999@projectlifesaver.org
SUMMARY:FPCA 65th Annual Summer Training Conference & Exposition
DESCRIPTION:Chief Saunders and Jeanne Saunders will be in attendance! \nClick here for more information.
URL:https://projectlifesaver.org/event/65th-annual-summer-training-conference-exposition/
LOCATION:Trump National Doral Miami\, 4400 NW 87th Ave\, Miami\, FL\, 33178\, United States
CATEGORIES:Community Events
END:VEVENT
BEGIN:VEVENT
DTSTART;VALUE=DATE:20170706
DTEND;VALUE=DATE:20170710
DTSTAMP:20260424T062325
CREATED:20170707T222647Z
LAST-MODIFIED:20170707T233250Z
UID:23794-1499299200-1499644799@projectlifesaver.org
SUMMARY:2017 Pilot International Convention
DESCRIPTION:Chief Carter will be in attendance! \nPlease click here for more information about this event.
URL:https://projectlifesaver.org/event/2017-pilot-international-convention/
LOCATION:Paris Hotel & Casino\, 3655 S Las Vegas Blvd\, Las Vegas\, NV\, 89109\, United States
CATEGORIES:Community Events
ATTACH;FMTTYPE=image/jpeg:https://projectlifesaver.org/wp-content/uploads/2017/07/pilot-las-vegas-logo-300x221.jpg
END:VEVENT
BEGIN:VEVENT
DTSTART;TZID=UTC:20170624T190000
DTEND;TZID=UTC:20170624T230000
DTSTAMP:20260424T062325
CREATED:20170525T221613Z
LAST-MODIFIED:20170525T221754Z
UID:11976-1498330800-1498345200@projectlifesaver.org
SUMMARY:Richmond\, VA - 1st Annual Project Lifesaver Fundraiser
DESCRIPTION:Help support The Richmond City Sheriff’s Office and Richmond Police Department Project Lifesaver Program! \nSheriff Woody and Chief Durham are excited to host the First Annual Project Lifesaver Fundraiser in Richmond\, VA. Come join the fun while dancing to all genres of music and dining on some of the best food in Richmond. \n\nFor more information contact: \nLt. Col. Carol Dabney \n804-646-6695 \nor \nCapt. Daniel Minton \n804-646-0365
URL:https://projectlifesaver.org/event/first-annual-project-lifesaver-fundraiser/
LOCATION:Royal Manchester Event Center\, 1173 Wall Street\, Richmond\, VA\, 23224\, United States
CATEGORIES:Member Agency Events
END:VEVENT
BEGIN:VEVENT
DTSTART;VALUE=DATE:20170623
DTEND;VALUE=DATE:20170629
DTSTAMP:20260424T062325
CREATED:20170707T221930Z
LAST-MODIFIED:20170707T232714Z
UID:23791-1498176000-1498694399@projectlifesaver.org
SUMMARY:National Sheriff's Association Annual Conference
DESCRIPTION:Chief Saunders & Chief Carter will be in attendance!\n\nClick here for more information about this event.
URL:https://projectlifesaver.org/event/national-sheriffs-association-annual-conference/
LOCATION:Reno-Sparks Convention Center\, 4590 S Virginia Street\, Reno\, NV\, 89502\, United States
CATEGORIES:Community Events
ATTACH;FMTTYPE=image/jpeg:https://projectlifesaver.org/wp-content/uploads/2017/07/201720Conference20Web20Header20620x200.jpg
END:VEVENT
BEGIN:VEVENT
DTSTART;TZID=UTC:20170619T110000
DTEND;TZID=UTC:20170619T220000
DTSTAMP:20260424T062325
CREATED:20170526T195847Z
LAST-MODIFIED:20170526T195847Z
UID:12046-1497870000-1497909600@projectlifesaver.org
SUMMARY:Autism Speaks 18th Annual Celebrity Golf Challenge
DESCRIPTION:Over the past 18 years\, the Autism Speaks Celebrity Golf Challenge has become one of the most eagerly anticipated and widely respected charity golf tournaments in the country\, raising over $1 million annually for Autism Speaks. Autism Speaks is dedicated to promoting solutions\, across the spectrum and throughout the lifespan\, for the needs of individuals with autism and their families through advocacy and support; increasing understanding and acceptance of autism spectrum disorder; and advancing research into causes and better interventions for autism spectrum disorder and related conditions.
URL:https://projectlifesaver.org/event/autism-speaks-18th-annual-celebrity-golf-challenge/
LOCATION:Winged Foot Golf Club\, 851 Fenimore Rd\, Mamaroneck\, NY\, 10543\, United States
CATEGORIES:Autism Speaks Events
ATTACH;FMTTYPE=image/png:https://projectlifesaver.org/wp-content/uploads/2017/05/logo-large.png
END:VEVENT
BEGIN:VEVENT
DTSTART;TZID=UTC:20170613T180000
DTEND;TZID=UTC:20170613T230000
DTSTAMP:20260424T062325
CREATED:20170526T195043Z
LAST-MODIFIED:20170526T195043Z
UID:12029-1497376800-1497394800@projectlifesaver.org
SUMMARY:Autism Speaks - The Game Changers Gala
DESCRIPTION:
URL:https://projectlifesaver.org/event/autism-speaks-the-game-changers-gala/
LOCATION:Mandarin Oriental\, 80 Columbus Circle\, New York\, NY\, 10023\, United States
CATEGORIES:Autism Speaks Events
ATTACH;FMTTYPE=image/png:https://projectlifesaver.org/wp-content/uploads/2017/05/logo-large.png
END:VEVENT
BEGIN:VEVENT
DTSTART;TZID=UTC:20170611T090000
DTEND;TZID=UTC:20170611T130000
DTSTAMP:20260424T062325
CREATED:20170526T222433Z
LAST-MODIFIED:20170526T222433Z
UID:12067-1497171600-1497186000@projectlifesaver.org
SUMMARY:Denver\, CO - Autism Speaks Walk
DESCRIPTION:Autism Speaks Walk is the world’s largest autism fundraising event dedicated to improving the lives of people with autism. Powered by the love of parents\, grandparents\, siblings\, friends\, relatives\, and supporters\, the funds raised help ensure people of all abilities have access to the tools needed to lead their best lives. The commitment of individuals like you plays a critical role in raising the funding needed to fuel innovative research and lifelong supports and services. Working together\, there is no limit to what we can achieve. Please register and fundraise for an Autism Speaks Walk near you. \nOur strength as a community is powered by love and built on the commitment of individuals like you. Start a team\, join a team or come on your own. Walk and fundraise together to enhance the lives of people living with autism.
URL:https://projectlifesaver.org/event/denver-co-autism-speaks-walk/
LOCATION:Infinity Park\, 4400 E Kentucky Ave\, Glendale\, CO\, 80246\, United States
CATEGORIES:Autism Speaks Events
ATTACH;FMTTYPE=image/png:https://projectlifesaver.org/wp-content/uploads/2017/05/logo-large.png
END:VEVENT
BEGIN:VEVENT
DTSTART;TZID=UTC:20170610T090000
DTEND;TZID=UTC:20170610T130000
DTSTAMP:20260424T062325
CREATED:20170526T222204Z
LAST-MODIFIED:20170526T222204Z
UID:12064-1497085200-1497099600@projectlifesaver.org
SUMMARY:Des Moines\, IA - Autism Speaks Walk
DESCRIPTION:Autism Speaks Walk is the world’s largest autism fundraising event dedicated to improving the lives of people with autism. Powered by the love of parents\, grandparents\, siblings\, friends\, relatives\, and supporters\, the funds raised help ensure people of all abilities have access to the tools needed to lead their best lives. The commitment of individuals like you plays a critical role in raising the funding needed to fuel innovative research and lifelong supports and services. Working together\, there is no limit to what we can achieve. Please register and fundraise for an Autism Speaks Walk near you. \nOur strength as a community is powered by love and built on the commitment of individuals like you. Start a team\, join a team or come on your own. Walk and fundraise together to enhance the lives of people living with autism.
URL:https://projectlifesaver.org/event/des-moines-ia-autism-speaks-walk/
LOCATION:Principal Park\, 1 Line Drive\, Des Moines\, IA\, 50309\, United States
CATEGORIES:Autism Speaks Events
ATTACH;FMTTYPE=image/png:https://projectlifesaver.org/wp-content/uploads/2017/05/logo-large.png
END:VEVENT
BEGIN:VEVENT
DTSTART;TZID=UTC:20170607T083000
DTEND;TZID=UTC:20170607T143000
DTSTAMP:20260424T062325
CREATED:20170526T185533Z
LAST-MODIFIED:20170605T230206Z
UID:11996-1496824200-1496845800@projectlifesaver.org
SUMMARY:Franklin\, TN - AFA Educating America Tour
DESCRIPTION:In celebration of its 15th anniversary\, AFA is hosting the \n“AFA National Educating America Tour” \nAFA’s Concepts in Care Educational Conferences will provide individuals throughout the nation the opportunity to hear experts on topics to include: access to healthcare\, transitioning from home to residential care setting\, safeguarding your space\, long-term care\, perceptions of aging\, and clinical trials and research. \nThe educational conferences are free and will also provide memory screenings and a display of memory quilts.
URL:https://projectlifesaver.org/event/franklin-tn-afa-educating-america-tour/
LOCATION:The Franklin Theatre\, 419 Main St\, Franklin\, TN\, 37064\, United States
CATEGORIES:Alzheimer's Foundation of America Events
ATTACH;FMTTYPE=image/jpeg:https://projectlifesaver.org/wp-content/uploads/2017/05/Logo_FINAL-300x200.jpg
END:VEVENT
BEGIN:VEVENT
DTSTART;TZID=UTC:20170605T090000
DTEND;TZID=UTC:20170605T140000
DTSTAMP:20260424T062325
CREATED:20170605T191115Z
LAST-MODIFIED:20170605T191115Z
UID:12130-1496653200-1496671200@projectlifesaver.org
SUMMARY:Altoona\, PA - Autism Speaks Walk
DESCRIPTION:Autism Speaks Walk is the world’s largest autism fundraising event dedicated to improving the lives of people with autism. Powered by the love of parents\, grandparents\, siblings\, friends\, relatives\, and supporters\, the funds raised help ensure people of all abilities have access to the tools needed to lead their best lives. The commitment of individuals like you plays a critical role in raising the funding needed to fuel innovative research and lifelong supports and services. Working together\, there is no limit to what we can achieve. Please register and fundraise for an Autism Speaks Walk near you. \nOur strength as a community is powered by love and built on the commitment of individuals like you. Start a team\, join a team or come on your own. Walk and fundraise together to enhance the lives of people living with autism.
URL:https://projectlifesaver.org/event/altoona-pa-autism-speaks-walk/
LOCATION:PNG Field\, Altoona\, PA\, 16602\, United States
CATEGORIES:Autism Speaks Events
ATTACH;FMTTYPE=image/png:https://projectlifesaver.org/wp-content/uploads/2017/05/logo-large.png
END:VEVENT
BEGIN:VEVENT
DTSTART;TZID=UTC:20170605T090000
DTEND;TZID=UTC:20170605T130000
DTSTAMP:20260424T062325
CREATED:20170605T225527Z
LAST-MODIFIED:20170605T225527Z
UID:12202-1496653200-1496667600@projectlifesaver.org
SUMMARY:Anaheim\, CA - Autism Speaks Walk
DESCRIPTION:Autism Speaks Walk is the world’s largest autism fundraising event dedicated to improving the lives of people with autism. Powered by the love of parents\, grandparents\, siblings\, friends\, relatives\, and supporters\, the funds raised help ensure people of all abilities have access to the tools needed to lead their best lives. The commitment of individuals like you plays a critical role in raising the funding needed to fuel innovative research and lifelong supports and services. Working together\, there is no limit to what we can achieve. Please register and fundraise for an Autism Speaks Walk near you. \nOur strength as a community is powered by love and built on the commitment of individuals like you. Start a team\, join a team or come on your own. Walk and fundraise together to enhance the lives of people living with autism.
URL:https://projectlifesaver.org/event/anaheim-ca-autism-speaks-walk/
LOCATION:Angels Stadium\, 2000 E Gene Autry Way\, Anaheim\, CA\, 92806\, United States
CATEGORIES:Autism Speaks Events
ATTACH;FMTTYPE=image/png:https://projectlifesaver.org/wp-content/uploads/2017/05/logo-large.png
END:VEVENT
BEGIN:VEVENT
DTSTART;TZID=UTC:20170605T080000
DTEND;TZID=UTC:20170605T170000
DTSTAMP:20260424T062325
CREATED:20170606T000301Z
LAST-MODIFIED:20170606T000301Z
UID:12205-1496649600-1496682000@projectlifesaver.org
SUMMARY:United in Charity Golf Tournament 2017
DESCRIPTION:All proceeds to support Project Lifesaver! \nPlease join us for the United in Charity Golf Tournament to benefit Project Lifesaver on June 12\, 2017.\n \nThe Project Lifesaver program is an electronic based tracking system for Loudoun citizens with medical conditions such as Alzheimer’s\, Autism\, or other conditions\, who have a tendency to wander from home and become lost.  The Holy Family Council of the Knights of Columbus has chosen Project LifeSaver as the beneficiary of this year’s tournament because it aligns well with our mission of charity for the most vulnerable among us. We will have a great day of golf at the beautiful River Creek Club in Leesburg\, VA (www.rivercreekclub.com). The event will include a 4-person scramble\, lunch and awards receptions following the golf. $150 entry fee per golfer. Signups available at https://www.planmygolfevent.com/30570-UnitedinCharityGolf
URL:https://projectlifesaver.org/event/united-in-charity-golf-tournament-2017/
LOCATION:River Creek Club\, 43800 Olympic Blvd\, Leesburg\, VA\, 20176\, United States
CATEGORIES:Member Agency Events
ORGANIZER;CN="Loudon County Project LIfesaver":MAILTO:melszy@gmail.com
END:VEVENT
BEGIN:VEVENT
DTSTART;TZID=UTC:20170604T090000
DTEND;TZID=UTC:20170604T130000
DTSTAMP:20260424T062325
CREATED:20170526T221130Z
LAST-MODIFIED:20170526T221130Z
UID:12059-1496566800-1496581200@projectlifesaver.org
SUMMARY:White Plains\, NY - Autism Speaks Walk
DESCRIPTION:Autism Speaks Walk is the world’s largest autism fundraising event dedicated to improving the lives of people with autism. Powered by the love of parents\, grandparents\, siblings\, friends\, relatives\, and supporters\, the funds raised help ensure people of all abilities have access to the tools needed to lead their best lives. The commitment of individuals like you plays a critical role in raising the funding needed to fuel innovative research and lifelong supports and services. Working together\, there is no limit to what we can achieve. Please register and fundraise for an Autism Speaks Walk near you. \nOur strength as a community is powered by love and built on the commitment of individuals like you. Start a team\, join a team or come on your own. Walk and fundraise together to enhance the lives of people living with autism.
URL:https://projectlifesaver.org/event/white-plains-ny-autism-speaks-walk/
LOCATION:New York-Presbyterian Hospital Westchester Division\, 21 Bloomingdale Road\, White Plains \, FL\, 10605\, United States
CATEGORIES:Autism Speaks Events
ATTACH;FMTTYPE=image/png:https://projectlifesaver.org/wp-content/uploads/2017/05/logo-large.png
END:VEVENT
BEGIN:VEVENT
DTSTART;TZID=UTC:20170604T090000
DTEND;TZID=UTC:20170604T130000
DTSTAMP:20260424T062325
CREATED:20170526T220704Z
LAST-MODIFIED:20170526T220704Z
UID:12054-1496566800-1496581200@projectlifesaver.org
SUMMARY:Hartford\, CT - Autism Speaks Walk
DESCRIPTION:Autism Speaks Walk is the world’s largest autism fundraising event dedicated to improving the lives of people with autism. Powered by the love of parents\, grandparents\, siblings\, friends\, relatives\, and supporters\, the funds raised help ensure people of all abilities have access to the tools needed to lead their best lives. The commitment of individuals like you plays a critical role in raising the funding needed to fuel innovative research and lifelong supports and services. Working together\, there is no limit to what we can achieve. Please register and fundraise for an Autism Speaks Walk near you. \nOur strength as a community is powered by love and built on the commitment of individuals like you. Start a team\, join a team or come on your own. Walk and fundraise together to enhance the lives of people living with autism.
URL:https://projectlifesaver.org/event/hartford-ct-autism-speaks-walk/
LOCATION:Rentschler Field\, 615 Silver Ln\, East Hartford\, CT\, 06118\, United States
CATEGORIES:Autism Speaks Events
ATTACH;FMTTYPE=image/png:https://projectlifesaver.org/wp-content/uploads/2017/05/logo-large.png
END:VEVENT
BEGIN:VEVENT
DTSTART;TZID=UTC:20170603T103000
DTEND;TZID=UTC:20170603T160000
DTSTAMP:20260424T062325
CREATED:20170525T215018Z
LAST-MODIFIED:20170525T222003Z
UID:11967-1496485800-1496505600@projectlifesaver.org
SUMMARY:Charming Charlie PLI Fundraiser
DESCRIPTION:Visit the City Place Charming Charlie location in West Palm Beach\, FL for this special event\, & shop to your heart’s delight! \n10-20% of the event’s proceeds will be donated to PLI when the Project Lifesaver Flyer is presented at time of purchase! \nFlyer found here: https://files.acrobat.com/a/preview/bafdabea-7173-4d05-95c4-f8449c23066b
URL:https://projectlifesaver.org/event/charming-charlie-pli-fundraiser/
LOCATION:Charming Charlie City Place\, 701 S Rosemary Ave\, West Palm Beach\, FL\, 33401\, United States
CATEGORIES:HQ Events
ATTACH;FMTTYPE=image/png:https://projectlifesaver.org/wp-content/uploads/2017/05/Charming-Charlie2.png
END:VEVENT
BEGIN:VEVENT
DTSTART;TZID=UTC:20170530T090000
DTEND;TZID=UTC:20170530T140000
DTSTAMP:20260424T062325
CREATED:20170530T180316Z
LAST-MODIFIED:20170530T180316Z
UID:12100-1496134800-1496152800@projectlifesaver.org
SUMMARY:Westfield\, MA - Autism Speaks Walk
DESCRIPTION:Autism Speaks Walk is the world’s largest autism fundraising event dedicated to improving the lives of people with autism. Powered by the love of parents\, grandparents\, siblings\, friends\, relatives\, and supporters\, the funds raised help ensure people of all abilities have access to the tools needed to lead their best lives. The commitment of individuals like you plays a critical role in raising the funding needed to fuel innovative research and lifelong supports and services. Working together\, there is no limit to what we can achieve. Please register and fundraise for an Autism Speaks Walk near you. \nOur strength as a community is powered by love and built on the commitment of individuals like you. Start a team\, join a team or come on your own. Walk and fundraise together to enhance the lives of people living with autism.
URL:https://projectlifesaver.org/event/westfield-ma-autism-speaks-walk/
LOCATION:Stanley Park\, 400 Western Ave\, Westfield\, MA\, 01085\, United States
CATEGORIES:Autism Speaks Events
ATTACH;FMTTYPE=image/png:https://projectlifesaver.org/wp-content/uploads/2017/05/logo-large.png
END:VEVENT
BEGIN:VEVENT
DTSTART;TZID=UTC:20170530T080000
DTEND;TZID=UTC:20170530T170000
DTSTAMP:20260424T062325
CREATED:20170530T185722Z
LAST-MODIFIED:20170530T185722Z
UID:12114-1496131200-1496163600@projectlifesaver.org
SUMMARY:Princeton\, NJ - Autism Speaks Walk
DESCRIPTION:Autism Speaks Walk is the world’s largest autism fundraising event dedicated to improving the lives of people with autism. Powered by the love of parents\, grandparents\, siblings\, friends\, relatives\, and supporters\, the funds raised help ensure people of all abilities have access to the tools needed to lead their best lives. The commitment of individuals like you plays a critical role in raising the funding needed to fuel innovative research and lifelong supports and services. Working together\, there is no limit to what we can achieve. Please register and fundraise for an Autism Speaks Walk near you. \nOur strength as a community is powered by love and built on the commitment of individuals like you. Start a team\, join a team or come on your own. Walk and fundraise together to enhance the lives of people living with autism.
URL:https://projectlifesaver.org/event/princeton-nj-autism-speaks-walk/
LOCATION:ETS\, Princeton Campus\, 660 Rosedale Rd\, Princeton\, NJ\, 08540\, United States
CATEGORIES:Autism Speaks Events
ATTACH;FMTTYPE=image/png:https://projectlifesaver.org/wp-content/uploads/2017/05/logo-large.png
END:VEVENT
END:VCALENDAR